BEGIN:VCALENDAR
VERSION:2.0
PRODID:-//Illinois Conference, United Church of Christ - ECPv3.11.2//NONSGML v1.0//EN
CALSCALE:GREGORIAN
METHOD:PUBLISH
X-WR-CALNAME:Illinois Conference, United Church of Christ
X-ORIGINAL-URL:https://western.ilucc.org
X-WR-CALDESC:Events for Illinois Conference, United Church of Christ
BEGIN:VEVENT
DTSTART:20180107T220000Z
DTEND:20180108T000000Z
DTSTAMP:20260423T130015Z
CREATED:20171219T225412Z
LAST-MODIFIED:20171219T225618Z
UID:2714-1515362400-1515369600@western.ilucc.org
SUMMARY:Service of Installation for Rev. Emily Snowden
DESCRIPTION:Congregational UCC\, Arlington Heights invites you to the Pastoral Installation Service for Rev. Emily Snowden on Sunday\, January 7. The church is located on 1001 West Kirchoff Road\, Arlington Heights. This service\, in partnership with the Chicago Metropolitan Association of the United Church of Christ\, confirms the covenantal relationship between Congregational UCC and their newly called pastor.\n\nWorship will begin at 4:00 p.m. All are welcome! Clergy are invited to robe\, please wear red. Reception to follow. Great preaching! Wonderful music! You won’t want to miss it!\n\nInstallation Invite - Rev. Emily Snowden
URL:https://western.ilucc.org/event/service-of-installation-for-rev-emily-snowden/
LOCATION:1001 W. Kirchoff Road\, Arlington Heights\, IL\, 60005\, United States
CATEGORIES:all
ORGANIZER;CN="Wayne%20MacPherson":MAILTO:ilconfwayne@gmail.com
END:VEVENT
END:VCALENDAR