BEGIN:VCALENDAR
VERSION:2.0
PRODID:-//Illinois Conference, United Church of Christ - ECPv3.11.2//NONSGML v1.0//EN
CALSCALE:GREGORIAN
METHOD:PUBLISH
X-WR-CALNAME:Illinois Conference, United Church of Christ
X-ORIGINAL-URL:https://western.ilucc.org
X-WR-CALDESC:Events for Illinois Conference, United Church of Christ
BEGIN:VEVENT
DTSTART:20180217T010000Z
DTEND:20180217T030000Z
DTSTAMP:20260423T112728Z
CREATED:20180213T015117Z
LAST-MODIFIED:20180213T015519Z
UID:2902-1518829200-1518836400@western.ilucc.org
SUMMARY:Clergy Event: Conversations with Sojourner Pastor
DESCRIPTION:On Friday\, February 16th at 7:00 p.m. CMA Clergy are invited to gather at Sun Wah BBQ Restaurant\, 5041 N. Broadway\, Chicago\, for dinner and conversation with Rev. Buford who will talk about life in post-Christendom California\, “Tales from the Church in California and Beyond.”\n\nPlease RSVP by February 13 to ilconfwayne@gmail.com or call (773) 324-7650.
URL:https://western.ilucc.org/event/clergy-event-conversations-with-sojourner-pastor/
CATEGORIES:all
ORGANIZER;CN="Wayne%20MacPherson":MAILTO:ilconfwayne@gmail.com
END:VEVENT
END:VCALENDAR