BEGIN:VCALENDAR
VERSION:2.0
PRODID:-//Illinois Conference, United Church of Christ - ECPv3.11.2//NONSGML v1.0//EN
CALSCALE:GREGORIAN
METHOD:PUBLISH
X-WR-CALNAME:Illinois Conference, United Church of Christ
X-ORIGINAL-URL:https://western.ilucc.org
X-WR-CALDESC:Events for Illinois Conference, United Church of Christ
BEGIN:VEVENT
DTSTART:20180217T150000Z
DTEND:20180217T210000Z
DTSTAMP:20260423T113257Z
CREATED:20171221T003142Z
LAST-MODIFIED:20180213T020334Z
UID:2735-1518879600-1518901200@western.ilucc.org
SUMMARY:CMA Congregational Life Workshop
DESCRIPTION:\nCMA Congregational Life Committee presents “God Is Still Speaking Theology & Outreach: Aligning Our Mission with Our Message” a workshop for Church Leaders with Rev. Ron Buford on Saturday\, February 17\, 2018 from 9:00 a.m. to 3:00 p.m. at Uptown Underground\, 4713 N. Broadway. Uptown Underground is the church home of The Lighthouse Church of Chicago\, led by Pastor Jamie Frazier.\n\nRev. Buford is the former director of the UCC’s Still Speaking Campaign. This workshop focuses on next steps for “God Is Still Speaking” Theology. Rev Buford is Pastor of Congregational Church of Sunnyvale (CA) UCC whose twelve-step program “Racists Anonymous” is an essential part of their mission and message.\nPeople wishing to attend should contact Rev. Wayne MacPherson\, Administrative Support Staff at Chicago Metropolitan Association e-mail ilconfwayne@gmail.com.\nClick here to download event Registration Form
URL:https://western.ilucc.org/event/cma-congregational-life-winter-workshop-feb-17-2018/
LOCATION:4713 N. Broadway\, Chicago\, IL\, United States
CATEGORIES:all
ORGANIZER;CN="Wayne%20MacPherson":MAILTO:ilconfwayne@gmail.com
END:VEVENT
END:VCALENDAR